BEGIN:VCALENDAR
VERSION:2.0
PRODID:-//Whitetail Ridge Golf Club - Yorkville, IL - ECPv6.15.20//NONSGML v1.0//EN
CALSCALE:GREGORIAN
METHOD:PUBLISH
X-ORIGINAL-URL:https://www.whitetailridgegc.com
X-WR-CALDESC:Events for Whitetail Ridge Golf Club - Yorkville, IL
REFRESH-INTERVAL;VALUE=DURATION:PT1H
X-Robots-Tag:noindex
X-PUBLISHED-TTL:PT1H
BEGIN:VTIMEZONE
TZID:UTC
BEGIN:STANDARD
TZOFFSETFROM:+0000
TZOFFSETTO:+0000
TZNAME:UTC
DTSTART:20250101T000000
END:STANDARD
END:VTIMEZONE
BEGIN:VEVENT
DTSTART;TZID=UTC:20260321T083000
DTEND;TZID=UTC:20260321T160000
DTSTAMP:20260422T100442
CREATED:20260223T172649Z
LAST-MODIFIED:20260223T172650Z
UID:10000042-1774081800-1774108800@www.whitetailridgegc.com
SUMMARY:2026 Irish Open
DESCRIPTION:2026 Irish Open – Sign Up Today \n\n\n\nWinter is finally winding down\, and it’s time to get back on the grass! We are thrilled to announce our first outdoor scramble of the 2026 season: The Irish Open. \n\n\n\nJoin us on March 21st for a day of golf\, great food\, and plenty of Irish drinks. Whether you’re shaking off the rust or ready to hunt for pins\, this is the perfect way to kick off the year. \n\n\n\nEvent Details: \n\n\n\nCost: \n\n\n\n$115/Player (4 Person Scramble) \n\n\n\nWhat’s Included: \n\n\n\n18 holes with cart\, range balls\, and a full Bangers & Mash breakfast (served at 8:30 AM). Plus\, access to the Bloody Mary Bar and Green Beer Keg to keep the “luck of the Irish” flowing! \n\n\n\nPrizes: \n\n\n\nWe’re paying out 9 places\, plus contest holes! \n\n\n\nOptional Games: \n\n\n\nTeams Skins: $100 Cash Only & $5 NCAA Squares \n\n\n\nReady to play? Sign-ups are through Golf Genius only.
URL:https://www.whitetailridgegc.com/event/2026-irish-open/
END:VEVENT
BEGIN:VEVENT
DTSTART;TZID=UTC:20260321T100000
DTEND;TZID=UTC:20260321T150000
DTSTAMP:20260422T100442
CREATED:20260219T225527Z
LAST-MODIFIED:20260219T225754Z
UID:10000040-1774087200-1774105200@www.whitetailridgegc.com
SUMMARY:Irish Open Scramble
DESCRIPTION:2026 Irish Open \n\n\n\nClick above link (“2026 Irish Open”) to view poster and information on the event. Click HERE to sign your group up!
URL:https://www.whitetailridgegc.com/event/irish-open-scramble/
ORGANIZER;CN="Whitetail Ridge Golf Club":MAILTO:andrew@whitetailridgegc.com
END:VEVENT
BEGIN:VEVENT
DTSTART;TZID=UTC:20260330T170000
DTEND;TZID=UTC:20260403T180000
DTSTAMP:20260422T100442
CREATED:20260115T231520Z
LAST-MODIFIED:20260115T231522Z
UID:10000029-1774890000-1775239200@www.whitetailridgegc.com
SUMMARY:Birdie Bombers Spring Break Camp
DESCRIPTION:
URL:https://www.whitetailridgegc.com/event/birdie-bombers-spring-break-camp/
END:VEVENT
BEGIN:VEVENT
DTSTART;TZID=UTC:20260425T090000
DTEND;TZID=UTC:20260425T140000
DTSTAMP:20260422T100442
CREATED:20260219T230343Z
LAST-MODIFIED:20260219T230410Z
UID:10000041-1777107600-1777125600@www.whitetailridgegc.com
SUMMARY:First Swing Scramble
DESCRIPTION:2026 First Swing Scramble \n\n\n\nClick above link (“2026 First Swing Scramble”) to view poster and information on the event.  \n\n\n\nSign Up open soon!!!
URL:https://www.whitetailridgegc.com/event/first-swing-scramble/
ORGANIZER;CN="Whitetail Ridge Golf Club":MAILTO:andrew@whitetailridgegc.com
END:VEVENT
BEGIN:VEVENT
DTSTART;TZID=UTC:20260425T090000
DTEND;TZID=UTC:20260425T140000
DTSTAMP:20260422T100442
CREATED:20260406T181155Z
LAST-MODIFIED:20260406T181157Z
UID:10000043-1777107600-1777125600@www.whitetailridgegc.com
SUMMARY:First swing Scramble
DESCRIPTION:Sign up here: https://www.golfgenius.com/pages/12449239131920295634
URL:https://www.whitetailridgegc.com/event/first-swing-scramble-2/
END:VEVENT
END:VCALENDAR