BEGIN:VCALENDAR
VERSION:2.0
PRODID:-//Whitetail Ridge Golf Club - Yorkville, IL - ECPv6.15.20//NONSGML v1.0//EN
CALSCALE:GREGORIAN
METHOD:PUBLISH
X-WR-CALNAME:Whitetail Ridge Golf Club - Yorkville, IL
X-ORIGINAL-URL:https://www.whitetailridgegc.com
X-WR-CALDESC:Events for Whitetail Ridge Golf Club - Yorkville, IL
REFRESH-INTERVAL;VALUE=DURATION:PT1H
X-Robots-Tag:noindex
X-PUBLISHED-TTL:PT1H
BEGIN:VTIMEZONE
TZID:UTC
BEGIN:STANDARD
TZOFFSETFROM:+0000
TZOFFSETTO:+0000
TZNAME:UTC
DTSTART:20240101T000000
END:STANDARD
END:VTIMEZONE
BEGIN:VEVENT
DTSTART;TZID=UTC:20260317T000000
DTEND;TZID=UTC:20260317T235959
DTSTAMP:20260422T112956
CREATED:20231121T222235Z
LAST-MODIFIED:20250630T180621Z
UID:10000006-1773705600-1773791999@www.whitetailridgegc.com
SUMMARY:Saint Patrick's Day
DESCRIPTION:
URL:https://www.whitetailridgegc.com/event/saint-patricks-day/
CATEGORIES:Holidays
END:VEVENT
BEGIN:VEVENT
DTSTART;TZID=UTC:20260211T170000
DTEND;TZID=UTC:20260211T180000
DTSTAMP:20260422T112956
CREATED:20251205T054622Z
LAST-MODIFIED:20251205T054624Z
UID:10000028-1770829200-1770832800@www.whitetailridgegc.com
SUMMARY:Golf Dome Junior Program
DESCRIPTION:
URL:https://www.whitetailridgegc.com/event/golf-dome-junior-program-2/2026-02-11/
END:VEVENT
BEGIN:VEVENT
DTSTART;TZID=UTC:20260209T170000
DTEND;TZID=UTC:20260209T180000
DTSTAMP:20260422T112956
CREATED:20251205T054622Z
LAST-MODIFIED:20251205T054624Z
UID:10000027-1770656400-1770660000@www.whitetailridgegc.com
SUMMARY:Golf Dome Junior Program
DESCRIPTION:
URL:https://www.whitetailridgegc.com/event/golf-dome-junior-program-2/2026-02-09/
END:VEVENT
BEGIN:VEVENT
DTSTART;TZID=UTC:20260204T170000
DTEND;TZID=UTC:20260204T180000
DTSTAMP:20260422T112956
CREATED:20251205T054622Z
LAST-MODIFIED:20251205T054624Z
UID:10000026-1770224400-1770228000@www.whitetailridgegc.com
SUMMARY:Golf Dome Junior Program
DESCRIPTION:
URL:https://www.whitetailridgegc.com/event/golf-dome-junior-program-2/2026-02-04/
END:VEVENT
BEGIN:VEVENT
DTSTART;TZID=UTC:20260202T170000
DTEND;TZID=UTC:20260202T180000
DTSTAMP:20260422T112956
CREATED:20251205T054622Z
LAST-MODIFIED:20251205T054624Z
UID:10000025-1770051600-1770055200@www.whitetailridgegc.com
SUMMARY:Golf Dome Junior Program
DESCRIPTION:
URL:https://www.whitetailridgegc.com/event/golf-dome-junior-program-2/2026-02-02/
END:VEVENT
BEGIN:VEVENT
DTSTART;TZID=UTC:20260128T170000
DTEND;TZID=UTC:20260128T180000
DTSTAMP:20260422T112956
CREATED:20251205T054622Z
LAST-MODIFIED:20251205T054624Z
UID:10000024-1769619600-1769623200@www.whitetailridgegc.com
SUMMARY:Golf Dome Junior Program
DESCRIPTION:
URL:https://www.whitetailridgegc.com/event/golf-dome-junior-program-2/2026-01-28/
END:VEVENT
BEGIN:VEVENT
DTSTART;TZID=UTC:20260126T170000
DTEND;TZID=UTC:20260126T180000
DTSTAMP:20260422T112956
CREATED:20251205T054622Z
LAST-MODIFIED:20251205T054624Z
UID:10000023-1769446800-1769450400@www.whitetailridgegc.com
SUMMARY:Golf Dome Junior Program
DESCRIPTION:
URL:https://www.whitetailridgegc.com/event/golf-dome-junior-program-2/2026-01-26/
END:VEVENT
BEGIN:VEVENT
DTSTART;TZID=UTC:20260114T170000
DTEND;TZID=UTC:20260114T180000
DTSTAMP:20260422T112956
CREATED:20251205T054622Z
LAST-MODIFIED:20251205T054624Z
UID:10000022-1768410000-1768413600@www.whitetailridgegc.com
SUMMARY:Golf Dome Junior Program
DESCRIPTION:
URL:https://www.whitetailridgegc.com/event/golf-dome-junior-program-2/2026-01-14/
END:VEVENT
BEGIN:VEVENT
DTSTART;TZID=UTC:20260112T170000
DTEND;TZID=UTC:20260112T180000
DTSTAMP:20260422T112956
CREATED:20251205T054622Z
LAST-MODIFIED:20251205T054624Z
UID:10000021-1768237200-1768240800@www.whitetailridgegc.com
SUMMARY:Golf Dome Junior Program
DESCRIPTION:
URL:https://www.whitetailridgegc.com/event/golf-dome-junior-program-2/2026-01-12/
END:VEVENT
BEGIN:VEVENT
DTSTART;TZID=UTC:20260107T170000
DTEND;TZID=UTC:20260107T180000
DTSTAMP:20260422T112956
CREATED:20251205T054622Z
LAST-MODIFIED:20251205T054624Z
UID:10000020-1767805200-1767808800@www.whitetailridgegc.com
SUMMARY:Golf Dome Junior Program
DESCRIPTION:
URL:https://www.whitetailridgegc.com/event/golf-dome-junior-program-2/2026-01-07/
END:VEVENT
BEGIN:VEVENT
DTSTART;TZID=UTC:20260105T170000
DTEND;TZID=UTC:20260105T180000
DTSTAMP:20260422T112956
CREATED:20251205T054622Z
LAST-MODIFIED:20251205T054624Z
UID:10000019-1767632400-1767636000@www.whitetailridgegc.com
SUMMARY:Golf Dome Junior Program
DESCRIPTION:
URL:https://www.whitetailridgegc.com/event/golf-dome-junior-program-2/2026-01-05/
END:VEVENT
BEGIN:VEVENT
DTSTART;TZID=UTC:20260101T000000
DTEND;TZID=UTC:20260101T235959
DTSTAMP:20260422T112956
CREATED:20231005T175327Z
LAST-MODIFIED:20250630T180705Z
UID:10000003-1767225600-1767311999@www.whitetailridgegc.com
SUMMARY:New Year's Eve
DESCRIPTION:
URL:https://www.whitetailridgegc.com/event/new-years-eve/
CATEGORIES:Holidays
END:VEVENT
BEGIN:VEVENT
DTSTART;TZID=UTC:20251229T120000
DTEND;TZID=UTC:20251230T131500
DTSTAMP:20260422T112956
CREATED:20251204T225600Z
LAST-MODIFIED:20251204T225602Z
UID:10000012-1767009600-1767100500@www.whitetailridgegc.com
SUMMARY:Birdie Bombers Holiday Camps
DESCRIPTION:
URL:https://www.whitetailridgegc.com/event/birdie-bombers-holiday-camps-3/
END:VEVENT
BEGIN:VEVENT
DTSTART;TZID=UTC:20251228T090000
DTEND;TZID=UTC:20251228T120000
DTSTAMP:20260422T112956
CREATED:20251205T052014Z
LAST-MODIFIED:20251205T052016Z
UID:10000016-1766912400-1766923200@www.whitetailridgegc.com
SUMMARY:Sunday Breakfast Buffet
DESCRIPTION:
URL:https://www.whitetailridgegc.com/event/sunday-breakfast-buffet/2025-12-28/
END:VEVENT
BEGIN:VEVENT
DTSTART;TZID=UTC:20251225T000000
DTEND;TZID=UTC:20251225T235959
DTSTAMP:20260422T112956
CREATED:20231121T222203Z
LAST-MODIFIED:20250630T180736Z
UID:10000005-1766620800-1766707199@www.whitetailridgegc.com
SUMMARY:Christmas
DESCRIPTION:
URL:https://www.whitetailridgegc.com/event/christmas/
CATEGORIES:Holidays
END:VEVENT
BEGIN:VEVENT
DTSTART;TZID=UTC:20251222T120000
DTEND;TZID=UTC:20251223T131500
DTSTAMP:20260422T112956
CREATED:20251204T225512Z
LAST-MODIFIED:20251204T225514Z
UID:10000011-1766404800-1766495700@www.whitetailridgegc.com
SUMMARY:Birdie Bombers Holiday Camps
DESCRIPTION:
URL:https://www.whitetailridgegc.com/event/birdie-bombers-holiday-camps-2/
END:VEVENT
BEGIN:VEVENT
DTSTART;TZID=UTC:20251221T090000
DTEND;TZID=UTC:20251221T120000
DTSTAMP:20260422T112956
CREATED:20251205T052014Z
LAST-MODIFIED:20251205T052016Z
UID:10000015-1766307600-1766318400@www.whitetailridgegc.com
SUMMARY:Sunday Breakfast Buffet
DESCRIPTION:
URL:https://www.whitetailridgegc.com/event/sunday-breakfast-buffet/2025-12-21/
END:VEVENT
BEGIN:VEVENT
DTSTART;TZID=UTC:20251214T090000
DTEND;TZID=UTC:20251214T120000
DTSTAMP:20260422T112956
CREATED:20251205T052014Z
LAST-MODIFIED:20251205T052016Z
UID:10000014-1765702800-1765713600@www.whitetailridgegc.com
SUMMARY:Sunday Breakfast Buffet
DESCRIPTION:
URL:https://www.whitetailridgegc.com/event/sunday-breakfast-buffet/2025-12-14/
END:VEVENT
BEGIN:VEVENT
DTSTART;TZID=UTC:20251210T080000
DTEND;TZID=UTC:20251210T170000
DTSTAMP:20260422T112956
CREATED:20251205T054302Z
LAST-MODIFIED:20251205T054303Z
UID:10000018-1765353600-1765386000@www.whitetailridgegc.com
SUMMARY:Golf Dome Junior Program
DESCRIPTION:
URL:https://www.whitetailridgegc.com/event/golf-dome-junior-program/2025-12-10/
END:VEVENT
BEGIN:VEVENT
DTSTART;TZID=UTC:20251208T170000
DTEND;TZID=UTC:20251208T180000
DTSTAMP:20260422T112956
CREATED:20251205T054302Z
LAST-MODIFIED:20251205T054303Z
UID:10000017-1765213200-1765216800@www.whitetailridgegc.com
SUMMARY:Golf Dome Junior Program
DESCRIPTION:
URL:https://www.whitetailridgegc.com/event/golf-dome-junior-program/2025-12-08/
END:VEVENT
BEGIN:VEVENT
DTSTART;TZID=UTC:20251207T090000
DTEND;TZID=UTC:20251207T120000
DTSTAMP:20260422T112956
CREATED:20251205T052014Z
LAST-MODIFIED:20251205T052016Z
UID:10000013-1765098000-1765108800@www.whitetailridgegc.com
SUMMARY:Sunday Breakfast Buffet
DESCRIPTION:
URL:https://www.whitetailridgegc.com/event/sunday-breakfast-buffet/2025-12-07/
END:VEVENT
BEGIN:VEVENT
DTSTART;TZID=UTC:20251204T150000
DTEND;TZID=UTC:20251204T180000
DTSTAMP:20260422T112956
CREATED:20251201T223426Z
LAST-MODIFIED:20251201T223435Z
UID:10000010-1764860400-1764871200@www.whitetailridgegc.com
SUMMARY:Pictures with Santa
DESCRIPTION:Pictures With Santa at Whitetail Ridge Golf Dome! \n\n\n\nGet into the holiday spirit! Whitetail Ridge Golf Dome is excited to announce our Pictures with Santa event! \n\n\n\nJoin us for a fun-filled afternoon that the whole family will enjoy. \n\n\n\nEvent Details: \n\n\n\nDate: Thursday\, December 4th\, 2025Time: 3:00 PM – 6:00 PM \n\n\n\n(Santa will be available from 3:30 PM – 5:30 PM)Location: Whitetail Ridge Golf Dome\, 3360 Station Dr. Oswego\, IL \n\n\n\nWhat’s Included?: \n\n\n\nFor just $25 per family\, your ticket includes: \n\n\n\nPhoto opportunity with Santa \n\n\n\n(Please bring your own camera to take photos!) \n\n\n\n1 Hour Bay RentalContests and Games for Kids \n\n\n\nDon’t miss out on this great chance to create a holiday memory! \n\n\n\nBook your time and bay now on our website using the code SANTA:
URL:https://www.whitetailridgegc.com/event/pictures-with-santa/
END:VEVENT
BEGIN:VEVENT
DTSTART;TZID=UTC:20251025T000000
DTEND;TZID=UTC:20251025T235959
DTSTAMP:20260422T112956
CREATED:20250829T151650Z
LAST-MODIFIED:20250829T151652Z
UID:10000009-1761350400-1761436799@www.whitetailridgegc.com
SUMMARY:The Nightmare Before Halloween
DESCRIPTION:Registration will open soon.
URL:https://www.whitetailridgegc.com/event/the-nightmare-before-halloween/
END:VEVENT
BEGIN:VEVENT
DTSTART;TZID=UTC:20250927T170000
DTEND;TZID=UTC:20250927T230000
DTSTAMP:20260422T112956
CREATED:20250829T151332Z
LAST-MODIFIED:20250829T151500Z
UID:10000008-1758992400-1759014000@www.whitetailridgegc.com
SUMMARY:Pizza Party
DESCRIPTION:Register for Event\n\n\n\n\nLimited spots available\, first come first serve!
URL:https://www.whitetailridgegc.com/event/pizza-party/
END:VEVENT
BEGIN:VEVENT
DTSTART;TZID=UTC:20250911T000000
DTEND;TZID=UTC:20250911T235959
DTSTAMP:20260422T112956
CREATED:20250829T150843Z
LAST-MODIFIED:20250829T151159Z
UID:10000007-1757548800-1757635199@www.whitetailridgegc.com
SUMMARY:Folds of Honor Charity Scramble
DESCRIPTION:Register for Event\n\n\n\n\n\nProceeds to benefit Folds of Honor foundation!
URL:https://www.whitetailridgegc.com/event/folds-of-honor-charity-scramble/
CATEGORIES:Tournaments
ATTACH;FMTTYPE=image/png:https://www.whitetailridgegc.com/wp-content/uploads/2025/08/Fold_9-11_Poster.png
END:VEVENT
END:VCALENDAR